BEGIN:VCALENDAR
VERSION:2.0
PRODID:-//Graceville Croquet Club - ECPv6.15.20//NONSGML v1.0//EN
CALSCALE:GREGORIAN
METHOD:PUBLISH
X-ORIGINAL-URL:https://gracevillecroquetbrisbane.com.au
X-WR-CALDESC:Events for Graceville Croquet Club
REFRESH-INTERVAL;VALUE=DURATION:PT1H
X-Robots-Tag:noindex
X-PUBLISHED-TTL:PT1H
BEGIN:VTIMEZONE
TZID:Australia/Brisbane
BEGIN:STANDARD
TZOFFSETFROM:+1000
TZOFFSETTO:+1000
TZNAME:AEST
DTSTART:20220101T000000
END:STANDARD
END:VTIMEZONE
BEGIN:VEVENT
DTSTART;TZID=Australia/Brisbane:20231102T000000
DTEND;TZID=Australia/Brisbane:20231102T000000
DTSTAMP:20260424T082217
CREATED:20231019T052249Z
LAST-MODIFIED:20231019T052249Z
UID:8724-1698883200-1698883200@gracevillecroquetbrisbane.com.au
SUMMARY:WINEMAKERS CLUB MEETING
DESCRIPTION:
URL:https://gracevillecroquetbrisbane.com.au/event/winemakers-club-meeting/
END:VEVENT
BEGIN:VEVENT
DTSTART;TZID=Australia/Brisbane:20231104T073000
DTEND;TZID=Australia/Brisbane:20231105T170000
DTSTAMP:20260424T082217
CREATED:20230613T015507Z
LAST-MODIFIED:20230613T015507Z
UID:8590-1699083000-1699203600@gracevillecroquetbrisbane.com.au
SUMMARY:WR Pitter Cup - AC
DESCRIPTION:WR Pitter Cup\nA/C\n4th and 5th November. \nOpen to all players. \ncontact: graceville@croquetqld.
URL:https://gracevillecroquetbrisbane.com.au/event/wr-pitter-cup-ac/
END:VEVENT
BEGIN:VEVENT
DTSTART;TZID=Australia/Brisbane:20231106T100000
DTEND;TZID=Australia/Brisbane:20231106T120000
DTSTAMP:20260424T082217
CREATED:20231019T052359Z
LAST-MODIFIED:20231019T052359Z
UID:8726-1699264800-1699272000@gracevillecroquetbrisbane.com.au
SUMMARY:BRISBANE SOUTH REGION MEETING
DESCRIPTION:
URL:https://gracevillecroquetbrisbane.com.au/event/brisbane-south-region-meeting/
END:VEVENT
BEGIN:VEVENT
DTSTART;TZID=Australia/Brisbane:20231109T150000
DTEND;TZID=Australia/Brisbane:20231109T180000
DTSTAMP:20260424T082217
CREATED:20231019T051211Z
LAST-MODIFIED:20231019T051211Z
UID:8712-1699542000-1699552800@gracevillecroquetbrisbane.com.au
SUMMARY:PROBUS
DESCRIPTION:
URL:https://gracevillecroquetbrisbane.com.au/event/probus-2/
END:VEVENT
BEGIN:VEVENT
DTSTART;TZID=Australia/Brisbane:20231112T000000
DTEND;TZID=Australia/Brisbane:20231112T000000
DTSTAMP:20260424T082217
CREATED:20231019T051652Z
LAST-MODIFIED:20231019T051652Z
UID:8716-1699747200-1699747200@gracevillecroquetbrisbane.com.au
SUMMARY:GRACEVILLE CROQUET CLUB BBQ
DESCRIPTION:Members only.
URL:https://gracevillecroquetbrisbane.com.au/event/graceville-croquet-club-bbq/
END:VEVENT
BEGIN:VEVENT
DTSTART;TZID=Australia/Brisbane:20231116T080000
DTEND;TZID=Australia/Brisbane:20231116T170000
DTSTAMP:20260424T082217
CREATED:20231116T035816Z
LAST-MODIFIED:20231116T035816Z
UID:8795-1700121600-1700154000@gracevillecroquetbrisbane.com.au
SUMMARY:GCC AGM
DESCRIPTION:Graceville Croquet Club Annual General Meeting \nClubhouse at 5pm
URL:https://gracevillecroquetbrisbane.com.au/event/gcc-agm/
END:VEVENT
BEGIN:VEVENT
DTSTART;TZID=Australia/Brisbane:20231118T140000
DTEND;TZID=Australia/Brisbane:20231118T180000
DTSTAMP:20260424T082217
CREATED:20231019T051454Z
LAST-MODIFIED:20231116T035545Z
UID:8714-1700316000-1700330400@gracevillecroquetbrisbane.com.au
SUMMARY:L BIRTHDAY PARTY
DESCRIPTION:approx 40 people \nVolunteers Moira\, Joy V\, Helen G\, Gloria.
URL:https://gracevillecroquetbrisbane.com.au/event/lincoln-birthday-party/
END:VEVENT
BEGIN:VEVENT
DTSTART;TZID=Australia/Brisbane:20231121T090000
DTEND;TZID=Australia/Brisbane:20231121T120000
DTSTAMP:20260424T082217
CREATED:20231019T052605Z
LAST-MODIFIED:20231019T052605Z
UID:8728-1700557200-1700568000@gracevillecroquetbrisbane.com.au
SUMMARY:PROBUS
DESCRIPTION:
URL:https://gracevillecroquetbrisbane.com.au/event/probus-4/
END:VEVENT
BEGIN:VEVENT
DTSTART;TZID=Australia/Brisbane:20231122T170000
DTEND;TZID=Australia/Brisbane:20231122T180000
DTSTAMP:20260424T082217
CREATED:20231019T052847Z
LAST-MODIFIED:20231019T052847Z
UID:8730-1700672400-1700676000@gracevillecroquetbrisbane.com.au
SUMMARY:GRACEVILLE CROQUET CLUB AGM
DESCRIPTION:
URL:https://gracevillecroquetbrisbane.com.au/event/graceville-croquet-club-agm/
END:VEVENT
BEGIN:VEVENT
DTSTART;TZID=Australia/Brisbane:20231127T090000
DTEND;TZID=Australia/Brisbane:20231127T120000
DTSTAMP:20260424T082217
CREATED:20231019T052930Z
LAST-MODIFIED:20231019T052930Z
UID:8732-1701075600-1701086400@gracevillecroquetbrisbane.com.au
SUMMARY:PROBUS
DESCRIPTION:
URL:https://gracevillecroquetbrisbane.com.au/event/probus-5/
END:VEVENT
END:VCALENDAR