BEGIN:VCALENDAR
VERSION:2.0
PRODID:-//Graceville Croquet Club - ECPv6.15.20//NONSGML v1.0//EN
CALSCALE:GREGORIAN
METHOD:PUBLISH
X-WR-CALNAME:Graceville Croquet Club
X-ORIGINAL-URL:https://gracevillecroquetbrisbane.com.au
X-WR-CALDESC:Events for Graceville Croquet Club
REFRESH-INTERVAL;VALUE=DURATION:PT1H
X-Robots-Tag:noindex
X-PUBLISHED-TTL:PT1H
BEGIN:VTIMEZONE
TZID:Australia/Brisbane
BEGIN:STANDARD
TZOFFSETFROM:+1000
TZOFFSETTO:+1000
TZNAME:AEST
DTSTART:20220101T000000
END:STANDARD
END:VTIMEZONE
BEGIN:VEVENT
DTSTART;TZID=Australia/Brisbane:20231001T080000
DTEND;TZID=Australia/Brisbane:20231001T130000
DTSTAMP:20260424T095721
CREATED:20230612T052227Z
LAST-MODIFIED:20230612T052330Z
UID:8587-1696147200-1696165200@gracevillecroquetbrisbane.com.au
SUMMARY:Graceville Handicap Championships Level 1 GC
DESCRIPTION:Graceville Handicap Championships Level 1\nGolf Players\n1st October morning for 2nd round.\nClub members only.
URL:https://gracevillecroquetbrisbane.com.au/event/graceville-handicap-championships-level-1-gc-2/
END:VEVENT
BEGIN:VEVENT
DTSTART;TZID=Australia/Brisbane:20231023T090000
DTEND;TZID=Australia/Brisbane:20231023T120000
DTSTAMP:20260424T095721
CREATED:20231019T052115Z
LAST-MODIFIED:20231019T052115Z
UID:8722-1698051600-1698062400@gracevillecroquetbrisbane.com.au
SUMMARY:PROBUS
DESCRIPTION:
URL:https://gracevillecroquetbrisbane.com.au/event/probus-3/
END:VEVENT
BEGIN:VEVENT
DTSTART;TZID=Australia/Brisbane:20231031T233000
DTEND;TZID=Australia/Brisbane:20231031T233000
DTSTAMP:20260424T095721
CREATED:20231019T053113Z
LAST-MODIFIED:20231019T053113Z
UID:8734-1698795000-1698795000@gracevillecroquetbrisbane.com.au
SUMMARY:GRACEVILLE CROQUET CLUB MEMBERSHIP FEES DUE
DESCRIPTION:
URL:https://gracevillecroquetbrisbane.com.au/event/graceville-croquet-club-membership-fees-due/
END:VEVENT
END:VCALENDAR