BEGIN:VCALENDAR
VERSION:2.0
PRODID:-//Graceville Croquet Club - ECPv6.15.20//NONSGML v1.0//EN
CALSCALE:GREGORIAN
METHOD:PUBLISH
X-ORIGINAL-URL:https://gracevillecroquetbrisbane.com.au
X-WR-CALDESC:Events for Graceville Croquet Club
REFRESH-INTERVAL;VALUE=DURATION:PT1H
X-Robots-Tag:noindex
X-PUBLISHED-TTL:PT1H
BEGIN:VTIMEZONE
TZID:Australia/Brisbane
BEGIN:STANDARD
TZOFFSETFROM:+1000
TZOFFSETTO:+1000
TZNAME:AEST
DTSTART:20220101T000000
END:STANDARD
END:VTIMEZONE
BEGIN:VEVENT
DTSTART;TZID=Australia/Brisbane:20230701T083000
DTEND;TZID=Australia/Brisbane:20230701T120000
DTSTAMP:20260425T000709
CREATED:20230613T033034Z
LAST-MODIFIED:20230618T000903Z
UID:8635-1688200200-1688212800@gracevillecroquetbrisbane.com.au
SUMMARY:GCC ASSOCIATION CROQUET
DESCRIPTION:Saturday AC (8:30 am for 9.00am start)
URL:https://gracevillecroquetbrisbane.com.au/event/gcc-association-croquet-6/
END:VEVENT
BEGIN:VEVENT
DTSTART;TZID=Australia/Brisbane:20230703T100000
DTEND;TZID=Australia/Brisbane:20230703T120000
DTSTAMP:20260425T000709
CREATED:20230613T023831Z
LAST-MODIFIED:20230613T023831Z
UID:8597-1688378400-1688385600@gracevillecroquetbrisbane.com.au
SUMMARY:Dionysus Wine and Food Committee
DESCRIPTION:
URL:https://gracevillecroquetbrisbane.com.au/event/dionysus-wine-and-food-committee/
END:VEVENT
BEGIN:VEVENT
DTSTART;TZID=Australia/Brisbane:20230704T130000
DTEND;TZID=Australia/Brisbane:20230704T170000
DTSTAMP:20260425T000709
CREATED:20230613T030201Z
LAST-MODIFIED:20230618T004051Z
UID:8615-1688475600-1688490000@gracevillecroquetbrisbane.com.au
SUMMARY:GCC GOLF CROQUET
DESCRIPTION:GCC GOLF CROQUET \nGCC Golf Croquet 1.30pm for 1:30pm- \nTwo games followed by wine and cheese
URL:https://gracevillecroquetbrisbane.com.au/event/gcc-golf-croquet-4/
END:VEVENT
BEGIN:VEVENT
DTSTART;TZID=Australia/Brisbane:20230705T083000
DTEND;TZID=Australia/Brisbane:20230705T120000
DTSTAMP:20260425T000709
CREATED:20230617T234848Z
LAST-MODIFIED:20230617T234922Z
UID:8653-1688545800-1688558400@gracevillecroquetbrisbane.com.au
SUMMARY:GCC RICOCHET CROQUET
DESCRIPTION:GCC RICOCHET CROQUET \n8:30 FOR 9:00am start \n9:00 til 12:00
URL:https://gracevillecroquetbrisbane.com.au/event/gcc-ricochet-croquet-4/
END:VEVENT
BEGIN:VEVENT
DTSTART;VALUE=DATE:20230709
DTEND;VALUE=DATE:20230710
DTSTAMP:20260425T000709
CREATED:20230612T050044Z
LAST-MODIFIED:20230612T050148Z
UID:8572-1688860800-1688947199@gracevillecroquetbrisbane.com.au
SUMMARY:Graceville Cup Doubles
DESCRIPTION:Graceville Cup Doubles high/low handicap random draw.\nGolf Croquet\n9th July \nClub members only.
URL:https://gracevillecroquetbrisbane.com.au/event/graceville-cup-doubles/
END:VEVENT
BEGIN:VEVENT
DTSTART;TZID=Australia/Brisbane:20230711T130000
DTEND;TZID=Australia/Brisbane:20230711T170000
DTSTAMP:20260425T000709
CREATED:20230613T030316Z
LAST-MODIFIED:20230618T002729Z
UID:8617-1689080400-1689094800@gracevillecroquetbrisbane.com.au
SUMMARY:GCC GOLF CROQUET
DESCRIPTION:GCC GOLF CROQUET \nGCC Golf Croquet 1.30pm for 1:30pm- \nTwo games followed by wine and cheese
URL:https://gracevillecroquetbrisbane.com.au/event/gcc-golf-croquet-5/
END:VEVENT
BEGIN:VEVENT
DTSTART;TZID=Australia/Brisbane:20230713T090000
DTEND;TZID=Australia/Brisbane:20230713T120000
DTSTAMP:20260425T000709
CREATED:20230612T045433Z
LAST-MODIFIED:20230613T020638Z
UID:8504-1689238800-1689249600@gracevillecroquetbrisbane.com.au
SUMMARY:PROBUS Kenmore Bellbowrie
DESCRIPTION:
URL:https://gracevillecroquetbrisbane.com.au/event/probus-kenmore-bellbowrie/
LOCATION:Graceville Croquet Club\, 53A Appel Street\, CHELMER\, BRISBANE\, QLD\, 4068\, Australia
END:VEVENT
BEGIN:VEVENT
DTSTART;TZID=Australia/Brisbane:20230713T090000
DTEND;TZID=Australia/Brisbane:20230713T120000
DTSTAMP:20260425T000709
CREATED:20230613T023705Z
LAST-MODIFIED:20230613T023757Z
UID:8595-1689238800-1689249600@gracevillecroquetbrisbane.com.au
SUMMARY:PROBUS
DESCRIPTION:
URL:https://gracevillecroquetbrisbane.com.au/event/probus/
END:VEVENT
BEGIN:VEVENT
DTSTART;TZID=Australia/Brisbane:20230718T090000
DTEND;TZID=Australia/Brisbane:20230718T120000
DTSTAMP:20260425T000709
CREATED:20230613T020847Z
LAST-MODIFIED:20230613T023619Z
UID:8593-1689670800-1689681600@gracevillecroquetbrisbane.com.au
SUMMARY:Kenmore Millennium Probus
DESCRIPTION:Kenmore Millennium Probus
URL:https://gracevillecroquetbrisbane.com.au/event/kenmore-millennium-probus/
END:VEVENT
END:VCALENDAR