BEGIN:VCALENDAR
VERSION:2.0
PRODID:-//Graceville Croquet Club - ECPv6.15.20//NONSGML v1.0//EN
CALSCALE:GREGORIAN
METHOD:PUBLISH
X-ORIGINAL-URL:https://gracevillecroquetbrisbane.com.au
X-WR-CALDESC:Events for Graceville Croquet Club
REFRESH-INTERVAL;VALUE=DURATION:PT1H
X-Robots-Tag:noindex
X-PUBLISHED-TTL:PT1H
BEGIN:VTIMEZONE
TZID:Australia/Brisbane
BEGIN:STANDARD
TZOFFSETFROM:+1000
TZOFFSETTO:+1000
TZNAME:AEST
DTSTART:20230101T000000
END:STANDARD
END:VTIMEZONE
BEGIN:VEVENT
DTSTART;TZID=Australia/Brisbane:20240309T130000
DTEND;TZID=Australia/Brisbane:20240309T170000
DTSTAMP:20260424T040225
CREATED:20240225T011232Z
LAST-MODIFIED:20240225T011314Z
UID:8809-1709989200-1710003600@gracevillecroquetbrisbane.com.au
SUMMARY:Birthday Party Booked
DESCRIPTION:Party for Saturday afternoon.\nGloria\, Moira and Bron G on duty.
URL:https://gracevillecroquetbrisbane.com.au/event/birthday-party-booked/
END:VEVENT
END:VCALENDAR