BEGIN:VCALENDAR
VERSION:2.0
PRODID:-//Graceville Croquet Club - ECPv6.15.20//NONSGML v1.0//EN
CALSCALE:GREGORIAN
METHOD:PUBLISH
X-ORIGINAL-URL:https://gracevillecroquetbrisbane.com.au
X-WR-CALDESC:Events for Graceville Croquet Club
REFRESH-INTERVAL;VALUE=DURATION:PT1H
X-Robots-Tag:noindex
X-PUBLISHED-TTL:PT1H
BEGIN:VTIMEZONE
TZID:Australia/Brisbane
BEGIN:STANDARD
TZOFFSETFROM:+1000
TZOFFSETTO:+1000
TZNAME:AEST
DTSTART:20220101T000000
END:STANDARD
END:VTIMEZONE
BEGIN:VEVENT
DTSTART;TZID=Australia/Brisbane:20231122T170000
DTEND;TZID=Australia/Brisbane:20231122T180000
DTSTAMP:20260424T095737
CREATED:20231019T052847Z
LAST-MODIFIED:20231019T052847Z
UID:8730-1700672400-1700676000@gracevillecroquetbrisbane.com.au
SUMMARY:GRACEVILLE CROQUET CLUB AGM
DESCRIPTION:
URL:https://gracevillecroquetbrisbane.com.au/event/graceville-croquet-club-agm/
END:VEVENT
END:VCALENDAR