BEGIN:VCALENDAR
VERSION:2.0
PRODID:-//Graceville Croquet Club - ECPv6.15.20//NONSGML v1.0//EN
CALSCALE:GREGORIAN
METHOD:PUBLISH
X-WR-CALNAME:Graceville Croquet Club
X-ORIGINAL-URL:https://gracevillecroquetbrisbane.com.au
X-WR-CALDESC:Events for Graceville Croquet Club
REFRESH-INTERVAL;VALUE=DURATION:PT1H
X-Robots-Tag:noindex
X-PUBLISHED-TTL:PT1H
BEGIN:VTIMEZONE
TZID:Australia/Brisbane
BEGIN:STANDARD
TZOFFSETFROM:+1000
TZOFFSETTO:+1000
TZNAME:AEST
DTSTART:20220101T000000
END:STANDARD
END:VTIMEZONE
BEGIN:VEVENT
DTSTART;TZID=Australia/Brisbane:20231104T073000
DTEND;TZID=Australia/Brisbane:20231105T170000
DTSTAMP:20260424T095608
CREATED:20230613T015507Z
LAST-MODIFIED:20230613T015507Z
UID:8590-1699083000-1699203600@gracevillecroquetbrisbane.com.au
SUMMARY:WR Pitter Cup - AC
DESCRIPTION:WR Pitter Cup\nA/C\n4th and 5th November. \nOpen to all players. \ncontact: graceville@croquetqld.
URL:https://gracevillecroquetbrisbane.com.au/event/wr-pitter-cup-ac/
END:VEVENT
END:VCALENDAR