BEGIN:VCALENDAR
VERSION:2.0
PRODID:-//Graceville Croquet Club - ECPv6.15.20//NONSGML v1.0//EN
CALSCALE:GREGORIAN
METHOD:PUBLISH
X-ORIGINAL-URL:https://gracevillecroquetbrisbane.com.au
X-WR-CALDESC:Events for Graceville Croquet Club
REFRESH-INTERVAL;VALUE=DURATION:PT1H
X-Robots-Tag:noindex
X-PUBLISHED-TTL:PT1H
BEGIN:VTIMEZONE
TZID:Australia/Brisbane
BEGIN:STANDARD
TZOFFSETFROM:+1000
TZOFFSETTO:+1000
TZNAME:AEST
DTSTART:20220101T000000
END:STANDARD
END:VTIMEZONE
BEGIN:VEVENT
DTSTART;VALUE=DATE:20230828
DTEND;VALUE=DATE:20230829
DTSTAMP:20260425T013253
CREATED:20231028T234520Z
LAST-MODIFIED:20231028T234550Z
UID:8790-1693180800-1693267199@gracevillecroquetbrisbane.com.au
SUMMARY:Singles Championship (Handicaps 9+)
DESCRIPTION:Level 2 (Handicaps 9+) Singles Championship\nFri 28th August :\nAll day event
URL:https://gracevillecroquetbrisbane.com.au/event/singles-championship-handicaps-9/
END:VEVENT
END:VCALENDAR