BEGIN:VCALENDAR
VERSION:2.0
PRODID:-//Graceville Croquet Club - ECPv6.15.20//NONSGML v1.0//EN
CALSCALE:GREGORIAN
METHOD:PUBLISH
X-WR-CALNAME:Graceville Croquet Club
X-ORIGINAL-URL:https://gracevillecroquetbrisbane.com.au
X-WR-CALDESC:Events for Graceville Croquet Club
REFRESH-INTERVAL;VALUE=DURATION:PT1H
X-Robots-Tag:noindex
X-PUBLISHED-TTL:PT1H
BEGIN:VTIMEZONE
TZID:Australia/Brisbane
BEGIN:STANDARD
TZOFFSETFROM:+1000
TZOFFSETTO:+1000
TZNAME:AEST
DTSTART:20220101T000000
END:STANDARD
END:VTIMEZONE
BEGIN:VEVENT
DTSTART;VALUE=DATE:20230819
DTEND;VALUE=DATE:20230820
DTSTAMP:20260425T013226
CREATED:20230612T050507Z
LAST-MODIFIED:20230612T050507Z
UID:8576-1692403200-1692489599@gracevillecroquetbrisbane.com.au
SUMMARY:Patron’s Cup
DESCRIPTION:Patron’s Cup\nA/C and Golf Croquet\n19th August.\nOpen to GCC and Stephens CC Club members only.\nHeld at Stephens Club
URL:https://gracevillecroquetbrisbane.com.au/event/patrons-cup/
END:VEVENT
END:VCALENDAR