BEGIN:VCALENDAR
VERSION:2.0
PRODID:-//Graceville Croquet Club - ECPv6.15.20//NONSGML v1.0//EN
CALSCALE:GREGORIAN
METHOD:PUBLISH
X-ORIGINAL-URL:https://gracevillecroquetbrisbane.com.au
X-WR-CALDESC:Events for Graceville Croquet Club
REFRESH-INTERVAL;VALUE=DURATION:PT1H
X-Robots-Tag:noindex
X-PUBLISHED-TTL:PT1H
BEGIN:VTIMEZONE
TZID:Australia/Brisbane
BEGIN:STANDARD
TZOFFSETFROM:+1000
TZOFFSETTO:+1000
TZNAME:AEST
DTSTART:20220101T000000
END:STANDARD
END:VTIMEZONE
BEGIN:VEVENT
DTSTART;TZID=Australia/Brisbane:20230813T080000
DTEND;TZID=Australia/Brisbane:20230813T120000
DTSTAMP:20260425T032218
CREATED:20230612T050332Z
LAST-MODIFIED:20230612T050343Z
UID:8574-1691913600-1691928000@gracevillecroquetbrisbane.com.au
SUMMARY:Golf Pennants Div 3
DESCRIPTION:Golf Pennants Div 3\n13th August.\nClub members only.
URL:https://gracevillecroquetbrisbane.com.au/event/golf-pennants-div-3/
END:VEVENT
END:VCALENDAR