BEGIN:VCALENDAR
VERSION:2.0
PRODID:-//Graceville Croquet Club - ECPv6.15.20//NONSGML v1.0//EN
CALSCALE:GREGORIAN
METHOD:PUBLISH
X-ORIGINAL-URL:https://gracevillecroquetbrisbane.com.au
X-WR-CALDESC:Events for Graceville Croquet Club
REFRESH-INTERVAL;VALUE=DURATION:PT1H
X-Robots-Tag:noindex
X-PUBLISHED-TTL:PT1H
BEGIN:VTIMEZONE
TZID:Australia/Brisbane
BEGIN:STANDARD
TZOFFSETFROM:+1000
TZOFFSETTO:+1000
TZNAME:AEST
DTSTART:20220101T000000
END:STANDARD
END:VTIMEZONE
BEGIN:VEVENT
DTSTART;TZID=Australia/Brisbane:20230630T130000
DTEND;TZID=Australia/Brisbane:20230630T170000
DTSTAMP:20260425T051834
CREATED:20230613T034156Z
LAST-MODIFIED:20230618T001902Z
UID:8649-1688130000-1688144400@gracevillecroquetbrisbane.com.au
SUMMARY:GCC Golf Croquet
DESCRIPTION:Friday GC (1:00pm for 1:30pm start)
URL:https://gracevillecroquetbrisbane.com.au/event/gcc-golf-croquet-13/
END:VEVENT
END:VCALENDAR