BEGIN:VCALENDAR
VERSION:2.0
PRODID:-//Graceville Croquet Club - ECPv6.15.20//NONSGML v1.0//EN
CALSCALE:GREGORIAN
METHOD:PUBLISH
X-ORIGINAL-URL:https://gracevillecroquetbrisbane.com.au
X-WR-CALDESC:Events for Graceville Croquet Club
REFRESH-INTERVAL;VALUE=DURATION:PT1H
X-Robots-Tag:noindex
X-PUBLISHED-TTL:PT1H
BEGIN:VTIMEZONE
TZID:Australia/Brisbane
BEGIN:STANDARD
TZOFFSETFROM:+1000
TZOFFSETTO:+1000
TZNAME:AEST
DTSTART:20220101T000000
END:STANDARD
END:VTIMEZONE
BEGIN:VEVENT
DTSTART;TZID=Australia/Brisbane:20230629T083000
DTEND;TZID=Australia/Brisbane:20230629T120000
DTSTAMP:20260425T013241
CREATED:20230613T032554Z
LAST-MODIFIED:20230618T001231Z
UID:8629-1688027400-1688040000@gracevillecroquetbrisbane.com.au
SUMMARY:GCC ASSOCIATION CROQUET
DESCRIPTION:GCC ASSOCIATION CROQUET \nThursday AC (8:30am for 9am start)
URL:https://gracevillecroquetbrisbane.com.au/event/gcc-association-croquet-3/
END:VEVENT
END:VCALENDAR