BEGIN:VCALENDAR
VERSION:2.0
PRODID:-//Graceville Croquet Club - ECPv6.15.20//NONSGML v1.0//EN
CALSCALE:GREGORIAN
METHOD:PUBLISH
X-ORIGINAL-URL:https://gracevillecroquetbrisbane.com.au
X-WR-CALDESC:Events for Graceville Croquet Club
REFRESH-INTERVAL;VALUE=DURATION:PT1H
X-Robots-Tag:noindex
X-PUBLISHED-TTL:PT1H
BEGIN:VTIMEZONE
TZID:Australia/Brisbane
BEGIN:STANDARD
TZOFFSETFROM:+1000
TZOFFSETTO:+1000
TZNAME:AEST
DTSTART:20220101T000000
END:STANDARD
END:VTIMEZONE
BEGIN:VEVENT
DTSTART;TZID=Australia/Brisbane:20230628T083000
DTEND;TZID=Australia/Brisbane:20230628T120000
DTSTAMP:20260425T013252
CREATED:20230613T024714Z
LAST-MODIFIED:20230617T235606Z
UID:8603-1687941000-1687953600@gracevillecroquetbrisbane.com.au
SUMMARY:GCC RICOCHET CROQUET
DESCRIPTION:
URL:https://gracevillecroquetbrisbane.com.au/event/gcc-ricochet-croquet/
END:VEVENT
BEGIN:VEVENT
DTSTART;TZID=Australia/Brisbane:20230628T130000
DTEND;TZID=Australia/Brisbane:20230628T170000
DTSTAMP:20260425T013252
CREATED:20230613T025333Z
LAST-MODIFIED:20230618T004325Z
UID:8612-1687957200-1687971600@gracevillecroquetbrisbane.com.au
SUMMARY:GCC GOLF CROQUET
DESCRIPTION:Wednesday GC \n(1:00pm for 1:30pm start)
URL:https://gracevillecroquetbrisbane.com.au/event/gcc-golf-croquet-wednesday/
END:VEVENT
END:VCALENDAR