BEGIN:VCALENDAR
VERSION:2.0
PRODID:-//Graceville Croquet Club - ECPv6.15.20//NONSGML v1.0//EN
CALSCALE:GREGORIAN
METHOD:PUBLISH
X-WR-CALNAME:Graceville Croquet Club
X-ORIGINAL-URL:https://gracevillecroquetbrisbane.com.au
X-WR-CALDESC:Events for Graceville Croquet Club
REFRESH-INTERVAL;VALUE=DURATION:PT1H
X-Robots-Tag:noindex
X-PUBLISHED-TTL:PT1H
BEGIN:VTIMEZONE
TZID:Australia/Brisbane
BEGIN:STANDARD
TZOFFSETFROM:+1000
TZOFFSETTO:+1000
TZNAME:AEST
DTSTART:20220101T000000
END:STANDARD
END:VTIMEZONE
BEGIN:VEVENT
DTSTART;TZID=Australia/Brisbane:20230625T100000
DTEND;TZID=Australia/Brisbane:20230625T123000
DTSTAMP:20260425T032107
CREATED:20230609T011503Z
LAST-MODIFIED:20230620T224400Z
UID:8513-1687687200-1687696200@gracevillecroquetbrisbane.com.au
SUMMARY:Free Come and Try Day
DESCRIPTION:Come and play croquet. \nWe’ll supply the equipment and teachers. \nAll you need is a hat\, sunscreen and flat soled shoes. \nComplementary morning tea. \n10am to 12:30pm Sunday 25th June 2023. \n53A Appel St Chelmer\, Brisbane. \nWatch a Come and Try here. \nSponsored by Hauss Realty. Locally yours.
URL:https://gracevillecroquetbrisbane.com.au/event/free-come-and-try-day/
LOCATION:Graceville Croquet Club\, 53A Appel Street\, CHELMER\, BRISBANE\, QLD\, 4068\, Australia
ATTACH;FMTTYPE=image/jpeg:https://gracevillecroquetbrisbane.com.au/wp-content/uploads/2023/06/PARTY-SCENE.jpg
END:VEVENT
BEGIN:VEVENT
DTSTART;TZID=Australia/Brisbane:20230625T130000
DTEND;TZID=Australia/Brisbane:20230625T170000
DTSTAMP:20260425T032107
CREATED:20230613T024252Z
LAST-MODIFIED:20230618T001943Z
UID:8599-1687698000-1687712400@gracevillecroquetbrisbane.com.au
SUMMARY:GCC GOLF Croquet
DESCRIPTION:Sunday Golf Croquet\n(1:00pm for 1:30pm start)
URL:https://gracevillecroquetbrisbane.com.au/event/gcc-golf-croquet/
END:VEVENT
END:VCALENDAR