BEGIN:VCALENDAR
VERSION:2.0
PRODID:-//Graceville Croquet Club - ECPv6.15.20//NONSGML v1.0//EN
CALSCALE:GREGORIAN
METHOD:PUBLISH
X-WR-CALNAME:Graceville Croquet Club
X-ORIGINAL-URL:https://gracevillecroquetbrisbane.com.au
X-WR-CALDESC:Events for Graceville Croquet Club
REFRESH-INTERVAL;VALUE=DURATION:PT1H
X-Robots-Tag:noindex
X-PUBLISHED-TTL:PT1H
BEGIN:VTIMEZONE
TZID:Australia/Brisbane
BEGIN:STANDARD
TZOFFSETFROM:+1000
TZOFFSETTO:+1000
TZNAME:AEST
DTSTART:20220101T000000
END:STANDARD
END:VTIMEZONE
BEGIN:VEVENT
DTSTART;TZID=Australia/Brisbane:20230614T080000
DTEND;TZID=Australia/Brisbane:20230614T170000
DTSTAMP:20260425T032105
CREATED:20230613T032148Z
LAST-MODIFIED:20230618T000514Z
UID:8625-1686729600-1686762000@gracevillecroquetbrisbane.com.au
SUMMARY:GCC RICOCHET CROQUET
DESCRIPTION:
URL:https://gracevillecroquetbrisbane.com.au/event/gcc-ricochet-croquet-3/
END:VEVENT
BEGIN:VEVENT
DTSTART;TZID=Australia/Brisbane:20230614T130000
DTEND;TZID=Australia/Brisbane:20230614T170000
DTSTAMP:20260425T032105
CREATED:20230613T031916Z
LAST-MODIFIED:20230618T000439Z
UID:8623-1686747600-1686762000@gracevillecroquetbrisbane.com.au
SUMMARY:GCC GOLF CROQUET
DESCRIPTION:
URL:https://gracevillecroquetbrisbane.com.au/event/gcc-golf-croquet-7/
END:VEVENT
END:VCALENDAR